View In:
ArcGIS JavaScript
ArcGIS Online Map Viewer
ArcGIS Earth
ArcMap
View Footprint In:
ArcGIS Online Map Viewer
Service Description: Maryland Coast Smart CRAB
Name: Environment/MD_CoastSmartCRAB
Description: Maryland Coast Smart CRAB
Single Fused Map Cache: false
Extent:
XMin: -8602728.425897714
YMin: 4565129.580482628
XMax: -8350598.885638633
YMax: 4813045.557114582
Spatial Reference: 102100
(3857)
Initial Extent:
XMin: -8602728.425897714
YMin: 4565129.580482628
XMax: -8350598.885638633
YMax: 4813045.557114582
Spatial Reference: 102100
(3857)
Full Extent:
XMin: -8602728.425897714
YMin: 4565129.580482628
XMax: -8350598.885638633
YMax: 4813045.557114582
Spatial Reference: 102100
(3857)
Pixel Size X: 0.3048006096012197
Pixel Size Y: 0.30480060960121935
Band Count: 1
Pixel Type: F32
RasterFunction Infos: {"rasterFunctionInfos": [{
"name": "None",
"description": "",
"help": ""
}]}
Mensuration Capabilities: Basic
Has Histograms: true
Has Colormap: false
Has Multi Dimensions : false
Rendering Rule:
Min Scale: 0
Max Scale: 0
Copyright Text:
Service Data Type: esriImageServiceDataTypeGeneric
Min Values: 0
Max Values: 14.304174423217773
Mean Values: 7.085101586964991
Standard Deviation Values: 2.958483193588726
Object ID Field:
Fields:
None
Default Mosaic Method: Center
Allowed Mosaic Methods:
SortField:
SortValue: null
Mosaic Operator: First
Default Compression Quality: 75
Default Resampling Method: Bilinear
Max Record Count: null
Max Image Height: 4100
Max Image Width: 15000
Max Download Image Count: null
Max Mosaic Image Count: null
Allow Raster Function: true
Allow Compute TiePoints: false
Supports Statistics: false
Supports Advanced Queries: false
Use StandardizedQueries: true
Raster Type Infos:
Name: Raster Dataset
Description: Supports all ArcGIS Raster Datasets
Help:
Has Raster Attribute Table: false
Edit Fields Info: null
Ownership Based AccessControl For Rasters: null
Child Resources:
Info
Histograms
Key Properties
Legend
MultiDimensionalInfo
rasterFunctionInfos
Supported Operations:
Export Image
Identify
Measure
Compute Histograms
Compute Statistics Histograms
Get Samples
Compute Class Statistics
Query Boundary
Compute Pixel Location